BEGIN:VCALENDAR
VERSION:2.0
METHOD:PUBLISH
PRODID:-//imacoda.com//SPD-Web-O-Mat//EN
CALSCALE:GREGORIAN
BEGIN:VTIMEZONE
TZID:Europe/Berlin
BEGIN:DAYLIGHT
TZOFFSETFROM:+0100
RRULE:FREQ=YEARLY;BYMONTH=3;BYDAY=-1SU
DTSTART:19810329T020000
TZNAME:MESZ
TZOFFSETTO:+0200
END:DAYLIGHT
BEGIN:STANDARD
TZOFFSETFROM:+0200
RRULE:FREQ=YEARLY;BYMONTH=10;BYDAY=-1SU
DTSTART:19961027T030000
TZNAME:MEZ
TZOFFSETTO:+0100
END:STANDARD
END:VTIMEZONE
BEGIN:VEVENT
UID:20190807T183933Z-00000479815-LULU@www.bayernspd.de
CREATED:20190807T183933Z
LAST-MODIFIED:20190828T071618Z
DTSTAMP:20190828T071618Z
TRANSP:TRANSPARENT
DTSTART;TZID=Europe/Berlin:20190916T190000
DTEND;TZID=Europe/Berlin:20190916T190000
SUMMARY:SPD-Kreiskonferenz mit Neuwahlen
LOCATION:Bad Staffelstein\, Angerstübla\, Angerstraße 57
DESCRIPTION:Termin im Web (SPD-Kreisverband Lichtenfels):\nhttps://spd-k
 reisverband-lichtenfels.de/termine/?id=479815
END:VEVENT
END:VCALENDAR
